BEGIN:VCALENDAR
VERSION:2.0
PRODID:-//South Manchester Cricket Academy - ECPv6.15.11//NONSGML v1.0//EN
CALSCALE:GREGORIAN
METHOD:PUBLISH
X-WR-CALNAME:South Manchester Cricket Academy
X-ORIGINAL-URL:https://southmanchestercricketacademy.co.uk
X-WR-CALDESC:Events for South Manchester Cricket Academy
REFRESH-INTERVAL;VALUE=DURATION:PT1H
X-Robots-Tag:noindex
X-PUBLISHED-TTL:PT1H
BEGIN:VTIMEZONE
TZID:Africa/Johannesburg
BEGIN:STANDARD
TZOFFSETFROM:+0200
TZOFFSETTO:+0200
TZNAME:SAST
DTSTART:20240101T000000
END:STANDARD
END:VTIMEZONE
BEGIN:VEVENT
DTSTART;VALUE=DATE:20251018
DTEND;VALUE=DATE:20260330
DTSTAMP:20260420T210157
CREATED:20250919T101707Z
LAST-MODIFIED:20250920T010652Z
UID:46001-1760745600-1774828799@southmanchestercricketacademy.co.uk
SUMMARY:Winter Cricket Clinic
DESCRIPTION:Events				\n				\n				\n				\n																														\n				\n				\n				\n									Experience an intensive cricket training tour based in Anand\, Gujarat\, India\, with daily sessions focusing on center wickets from April 2 to 14. The tour includes specialized coaching from expert bowlers and sidearmers\, along with three competitive matches—two under lights and one day game. Additionally\, enjoy exclusive events like watching an IPL match at the Narendra Modi Stadium and potential meet-and-greet opportunities with professional players during practice sessions. Travel arrangements include transit from Manchester to Ahmedabad and onward to Anand\, making this a comprehensive cricket development and cultural experience. 								\n				\n		\n		\n		\n				\n				\n					 Premium Package – £4\,044(It is for 1 Adult + 1 Under-18)\nIncludes:\n\n  Return flights\n  Accommodation at Madhuban Resort & Spa (4.7⭐\, breakfast included)\n  Coaching fees\n  Local travel in pre-booked cars\n\n\n 				\n				\n				\n		\n				\n				\n					 Standard Package – £3\,154(It is for 1 Adult + 1 Under-18)\nIncludes:\n\n  Return flights\n  Accommodation at Neejanand Resort (4⭐\, breakfast included)\n  Coaching fees\n  Local travel in pre-booked cars\n\n 				\n				\n				\n				\n				\n				\n				\n									[dflip id=”45460″][/dflip] 								\n				\n				\n		\n				\n				\n					Get in Touch				\n				\n				\n				\n					\n\n  \n\n\n\n\n	\n		\n			\n			 \n		\n	\n	\n		\n			\n			 \n		\n	\n	\n		\n			\n			 \n		\n	\n	\n		\n			\n			 \n		\n	\n	\n	 \n\n\n\n				\n				\n				\n				\n							\n			\n						\n		\n						\n				\n				\n				\n					Contact Info				\n				\n				\n				\n							\n							\n											\n\n												\n													\n										+44 7378 643280\n											\n									\n								\n											\n\n												\n													\n										admin@southmanchestercricketacademy.co.uk
URL:https://southmanchestercricketacademy.co.uk/event/winter-cricket-clinic/
LOCATION:William Hulme Grammar School (Sports Hall) Spring Bridge Road\, Whalley Range Manchester – M16 8PR
CATEGORIES:Cricket
ATTACH;FMTTYPE=image/png:https://southmanchestercricketacademy.co.uk/wp-content/uploads/2025/09/SOUTH-MANCHESTER-FLYERS-1-scaled.png
END:VEVENT
END:VCALENDAR